BEGIN:VCALENDAR
VERSION:2.0
PRODID:-//Summertime Göttingen - ECPv6.15.20//NONSGML v1.0//EN
CALSCALE:GREGORIAN
METHOD:PUBLISH
X-ORIGINAL-URL:https://summertime-goe.de
X-WR-CALDESC:Veranstaltungen für Summertime Göttingen
REFRESH-INTERVAL;VALUE=DURATION:PT1H
X-Robots-Tag:noindex
X-PUBLISHED-TTL:PT1H
BEGIN:VTIMEZONE
TZID:Europe/Berlin
BEGIN:DAYLIGHT
TZOFFSETFROM:+0100
TZOFFSETTO:+0200
TZNAME:CEST
DTSTART:20250330T010000
END:DAYLIGHT
BEGIN:STANDARD
TZOFFSETFROM:+0200
TZOFFSETTO:+0100
TZNAME:CET
DTSTART:20251026T010000
END:STANDARD
BEGIN:DAYLIGHT
TZOFFSETFROM:+0100
TZOFFSETTO:+0200
TZNAME:CEST
DTSTART:20260329T010000
END:DAYLIGHT
BEGIN:STANDARD
TZOFFSETFROM:+0200
TZOFFSETTO:+0100
TZNAME:CET
DTSTART:20261025T010000
END:STANDARD
BEGIN:DAYLIGHT
TZOFFSETFROM:+0100
TZOFFSETTO:+0200
TZNAME:CEST
DTSTART:20270328T010000
END:DAYLIGHT
BEGIN:STANDARD
TZOFFSETFROM:+0200
TZOFFSETTO:+0100
TZNAME:CET
DTSTART:20271031T010000
END:STANDARD
END:VTIMEZONE
BEGIN:VEVENT
DTSTART;VALUE=DATE:20261018
DTEND;VALUE=DATE:20261024
DTSTAMP:20260426T024821
CREATED:20251201T095644Z
LAST-MODIFIED:20251201T095644Z
UID:10000068-1792281600-1792799999@summertime-goe.de
SUMMARY:Kinderfreizeit im Haus Hoher Hagen - Abenteuer\, Rätsel und Teamwork im Haus Hohen Hagen
DESCRIPTION:Detektive aufgepasst!\nAuf dieser Kinderfreizeit wird das Haus Hoher Hagen zum Tatort spannender Abenteuer! Gemeinsam mit unserem erfahrenen Team aus geschulten Teamer*innen und hauptamtlichen Betreuer*innen tauchen die Kinder in die Welt von Detektiven ein: Wir lösen knifflige Fälle\, entschlüsseln geheime Botschaften und machen uns auf Schatz- und Spurensuche. \nHier kommt garantiert keine Langeweile auf! Neben den Detektivaufträgen gibt es jede Menge Bewegung\, kreative Workshops und spannende Spiele in der Natur. Die Kinder können neue Freundschaften knüpfen\, Teamgeist entwickeln und ihre Neugier so richtig ausleben. \nDoch hier geht es nicht nur um Detektivarbeit: Auf spielerische Weise haben die Kinder die Möglichkeit\, eigene Glaubenserfahrungen zu machen und neugierig den großen Fragen des Lebens zu begegnen. In einer offenen und kindgerechten Atmosphäre können sie so Gott auf ihre eigene Weise entdecken und sich gleichzeitig als Detektive erproben. \nLeistungen:  \nVollverpflegung mit Frühstück\, Mittagessen\, Abendessen und Snacks\, eine Betreuung durch erfahrene Teamer*innen und Hauptamtliche\, spannende Detektivspiele\, Schatzsuchen und kreative Workshops\, Übernachtung im Haus Hoher Hagen; die An- und Abreise erfolgt selbstorganisiert.
URL:https://summertime-goe.de/freizeit/kinderfreizeit-im-haus-hoher-hagen-abenteuer-raetsel-und-teamwork-im-haus-hohen-hagen/
LOCATION:Haus Hoher Hagen\, Dransfeld
ATTACH;FMTTYPE=image/jpeg:https://summertime-goe.de/wp-content/uploads/2025/12/Haus-Hoher-Hagen-scaled.jpg
ORGANIZER;CN="Ev. Jugend G%C3%B6ttingen %E2%80%93 M%C3%BCnden und Ev. Jugend Gleichen G%C3%B6ttingen S%C3%BCd":MAILTO:christopher.scharn@evlka.de
END:VEVENT
BEGIN:VEVENT
DTSTART;TZID=Europe/Berlin:20261019T080000
DTEND;TZID=Europe/Berlin:20261023T170000
DTSTAMP:20260426T024821
CREATED:20251204T093641Z
LAST-MODIFIED:20251204T093641Z
UID:10000138-1792396800-1792774800@summertime-goe.de
SUMMARY:Tagesbetreuung Herberhäuser Stieg Herbst
DESCRIPTION:Auch in den Herbstferien ist Spaß am Herberhäuser Stieg garantiert. Neben toben\, klettern\, basteln und spielen\, stehen\, je nach Wetterlage\, auch Ausflüge auf dem Programm. \nLeistungen: Engagierte Betreuung ab 8:00 Uhr bis 17:00 Uhr.  \nGetränke\, Mittagessen und nachmittags einen kleinen Snack.
URL:https://summertime-goe.de/freizeit/tagesbetreuung-herberhaeuser-stieg-herbst/2026-10-19/
LOCATION:Göttingen / Herberhäuser Stieg
ATTACH;FMTTYPE=image/jpeg:https://summertime-goe.de/wp-content/uploads/2025/12/Herberhaeuser-Stieg-Herbst.jpg
ORGANIZER;CN="Stadt G%C3%B6ttingen%2C Fachdienst Jugendarbeit/Jugendf%C3%B6rderung":MAILTO:ferien@goettingen.de
END:VEVENT
END:VCALENDAR