BEGIN:VCALENDAR
VERSION:2.0
PRODID:-//Summertime Göttingen - ECPv6.15.20//NONSGML v1.0//EN
CALSCALE:GREGORIAN
METHOD:PUBLISH
X-WR-CALNAME:Summertime Göttingen
X-ORIGINAL-URL:https://summertime-goe.de
X-WR-CALDESC:Veranstaltungen für Summertime Göttingen
REFRESH-INTERVAL;VALUE=DURATION:PT1H
X-Robots-Tag:noindex
X-PUBLISHED-TTL:PT1H
BEGIN:VTIMEZONE
TZID:Europe/Berlin
BEGIN:DAYLIGHT
TZOFFSETFROM:+0100
TZOFFSETTO:+0200
TZNAME:CEST
DTSTART:20240331T010000
END:DAYLIGHT
BEGIN:STANDARD
TZOFFSETFROM:+0200
TZOFFSETTO:+0100
TZNAME:CET
DTSTART:20241027T010000
END:STANDARD
BEGIN:DAYLIGHT
TZOFFSETFROM:+0100
TZOFFSETTO:+0200
TZNAME:CEST
DTSTART:20250330T010000
END:DAYLIGHT
BEGIN:STANDARD
TZOFFSETFROM:+0200
TZOFFSETTO:+0100
TZNAME:CET
DTSTART:20251026T010000
END:STANDARD
BEGIN:DAYLIGHT
TZOFFSETFROM:+0100
TZOFFSETTO:+0200
TZNAME:CEST
DTSTART:20260329T010000
END:DAYLIGHT
BEGIN:STANDARD
TZOFFSETFROM:+0200
TZOFFSETTO:+0100
TZNAME:CET
DTSTART:20261025T010000
END:STANDARD
END:VTIMEZONE
BEGIN:VEVENT
DTSTART;VALUE=DATE:20251013
DTEND;VALUE=DATE:20251020
DTSTAMP:20260426T035901
CREATED:20241104T084133Z
LAST-MODIFIED:20241104T095049Z
UID:10000051-1760313600-1760918399@summertime-goe.de
SUMMARY:PULS Camp | Urlaub vom Ego – voller Einsatz für andere
DESCRIPTION:Bock auf ein unvergessliches Feriencamp? Dann schau dir das PULS Camp an! Hier bekommst du die Chance\, Göttingen aus einer ganz neuen Perspektive zu entdecken und dabei eine Woche Urlaub vom Alltag zu genießen.Zusammen mit deinen Freunden und anderen coolen Leuten übernachtest du in der PULS Camp Basis. Chillen\, Spaß haben und die Zeit genießen – das steht hier im Vordergrund! Das Beste: Du wirst Teil spannender Herzaktionen! Ob beim Sprachcafé für Geflüchtete\, bei einem Renovierungsprojekt auf dem Abenteuerspielplatz\, bei Beschäftigungsangeboten für Senioren oderbei der Lebensmittelausgabe an Obdachlose –Göttingen braucht deine Hilfe! Und das alles gibt’s für nur 30 € für die gesamte Woche! Du entscheidest selbst\, bei welchen Aktionen du mitmachen möchtest. Außerdem bekommst du einen praktischen Einblick in soziale Berufe und kannst zahlreiche coole Ehrenämter ausprobieren. Komm vorbei und mach mit! Wir freuen uns auf dich!  \nLeistungen: Übernachtung im Camp-Stil\, Vollpension mit Eigenengagement und Leitung
URL:https://summertime-goe.de/freizeit/puls-camp-urlaub-vom-ego-voller-einsatz-fuer-andere/
LOCATION:Privat: Göttingen\, Göttingen
ATTACH;FMTTYPE=image/jpeg:https://summertime-goe.de/wp-content/uploads/2024/11/CVJM-Puls.jpg
ORGANIZER;CN="CVYM G%C3%B6ttingen e.V.":MAILTO:buero@cvjm-goettingen.de
END:VEVENT
BEGIN:VEVENT
DTSTART;TZID=Europe/Berlin:20251013T080000
DTEND;TZID=Europe/Berlin:20251017T170000
DTSTAMP:20260426T035901
CREATED:20241103T111459Z
LAST-MODIFIED:20241104T095042Z
UID:10000038-1760342400-1760720400@summertime-goe.de
SUMMARY:Tagesbetreuung Herberhäuser Stieg
DESCRIPTION:Auch in den Herbstferien ist Spaß am Herberhäuser Stieg garantiert. Neben toben\, klettern\, basteln und spielen\, stehen\, je nach Wetterlage\, auch Ausflüge auf dem Programm.  \nLeistungen: Engagierte Betreuung ab 8:00 Uhr bis 17:00 Uhr.   \nGetränke\, Mittagessen und nachmittags ein Snack. 
URL:https://summertime-goe.de/freizeit/tagesbetreuung-herberhaeuser-stieg-6/2025-10-13/
LOCATION:Göttingen / Herberhäuser Stieg
ATTACH;FMTTYPE=image/jpeg:https://summertime-goe.de/wp-content/uploads/2024/11/Stadt-Herbst-HHS.jpg
ORGANIZER;CN="Stadt G%C3%B6ttingen%2C Fachdienst Jugendarbeit/Jugendf%C3%B6rderung":MAILTO:ferien@goettingen.de
END:VEVENT
BEGIN:VEVENT
DTSTART;TZID=Europe/Berlin:20251013T100000
DTEND;TZID=Europe/Berlin:20251017T150000
DTSTAMP:20260426T035901
CREATED:20241103T112851Z
LAST-MODIFIED:20241104T095036Z
UID:10000041-1760349600-1760713200@summertime-goe.de
SUMMARY:Herbstferienprogramm: Gärtnern\, Wald und Natur
DESCRIPTION:Etwas übers Gärtnern\, Obst und Gemüse\, Tiere und Wald erfahren\, selbst mit anpackenund Vielfältiges erleben – das geht bei uns in den Herbstferien. Wir bieten ein vielseitigesProgramm\, immer verbunden mit erlebnispädagogischen Spielen und freier Zeit fürspontanen Spaß. Unsere Themen sind Gärtnern\, Ernten\, Bäume und Sträucher pflanzen\,die Natur beobachten\, oder auch Habitate\, wie z.B. Nistkästen bauen. Einen Tag verbringen wir im Wald\, an den anderen Tagen sind wir auf der Fläche vomFriedensgarten\, beim Essbaren Waldgarten und dem Lernacker der Stadtsolawi Göttingenam Siekweg in Grone. Das genaue Programm wird Mitte September auf unserer Webseitezu finden sein: https://www.janun-goettingen.de/herbstferienprogramm25 \nWir sind die meiste Zeit draußen. Bei sehr kaltem oder nassen Wetter haben wir einewarme Hütte zum zwischenzeitlichem Aufwärmen und zum Kochen zur Verfügung. \nLeistungen: Betreuung (10-15 Uhr) durch engagierte ehrenamtliche Teamer:innen mit pädagogischer Erfahrung. Veganes Mittagessen\, Snacks zwischendurch\, Haftpflicht/Unfallversicherung und ein vielfältiges Programm.
URL:https://summertime-goe.de/freizeit/herbstferienprogramm-gaertnern-wald-und-natur/
LOCATION:Göttingen\, Siekweg
ATTACH;FMTTYPE=image/jpeg:https://summertime-goe.de/wp-content/uploads/2024/11/Bild-JANUN-Herbstferienprogramm.jpg
ORGANIZER;CN="JANUN G%C3%B6ttingen e.V.%2C Essbarer Waldgarten G%C3%B6ttingen":MAILTO:goettingen@janun.de
END:VEVENT
BEGIN:VEVENT
DTSTART;TZID=Europe/Berlin:20251020T080000
DTEND;TZID=Europe/Berlin:20251024T170000
DTSTAMP:20260426T035901
CREATED:20241103T111459Z
LAST-MODIFIED:20241104T095042Z
UID:10000039-1760947200-1761325200@summertime-goe.de
SUMMARY:Tagesbetreuung Herberhäuser Stieg
DESCRIPTION:Auch in den Herbstferien ist Spaß am Herberhäuser Stieg garantiert. Neben toben\, klettern\, basteln und spielen\, stehen\, je nach Wetterlage\, auch Ausflüge auf dem Programm.  \nLeistungen: Engagierte Betreuung ab 8:00 Uhr bis 17:00 Uhr.   \nGetränke\, Mittagessen und nachmittags ein Snack. 
URL:https://summertime-goe.de/freizeit/tagesbetreuung-herberhaeuser-stieg-6/2025-10-20/
LOCATION:Göttingen / Herberhäuser Stieg
ATTACH;FMTTYPE=image/jpeg:https://summertime-goe.de/wp-content/uploads/2024/11/Stadt-Herbst-HHS.jpg
ORGANIZER;CN="Stadt G%C3%B6ttingen%2C Fachdienst Jugendarbeit/Jugendf%C3%B6rderung":MAILTO:ferien@goettingen.de
END:VEVENT
BEGIN:VEVENT
DTSTART;TZID=Europe/Berlin:20251020T080000
DTEND;TZID=Europe/Berlin:20251024T170000
DTSTAMP:20260426T035901
CREATED:20241104T084500Z
LAST-MODIFIED:20241104T095018Z
UID:10000052-1760947200-1761325200@summertime-goe.de
SUMMARY:Die magische Welt von Merlin | CVJM Tagesbetreuung
DESCRIPTION:Seid ihr bereit für ein spannendes Abenteuer in den Herbstferien? In unserer Tagesbetreuung dreht sich alles um den legendären Zauberer Merlin! Jeder Tag bietet aufregende Aktivitäten\, bei denen ihr gemeinsam Teamspiele spielt\, kreative Zauberutensilien bastelt und in faszinierende Geschichten eintaucht. Lasst euch von den Abenteuern Merlins inspirieren und entdeckt die Geheimnisse der Zauberei. Zusätzlich erwarten euch musikalische und bewegungsreiche Einheiten\, die für jede Menge Spaß sorgen. Hier habt ihr die Gelegenheit\, neue Freundschaften zu schließen und gemeinsam unvergessliche Erlebnisse zu schaffen. Am Ende eines jeden Tages könnt ihr stolz erzählen\, welche Abenteuer ihr erlebt habt\, und voller Vorfreude zurückkehren\, um herauszufinden\, was der nächste Tag bereithält. Meldet euch jetzt an und erlebt die Magie Merlins in unserer Tagesbetreuung – wir freuen uns auf euch! \nLeistungen: Ganztägige Betreuung von 8 bis 17 Uhr durch engagierte ehren-und hauptamtliche Mitarbeiter:innen\, inklusive warmem Mittagessen\, zwei Snacks pro Tag\, einem abwechslungsreichen Spiel- und Bastelprogramm in einer leistungsfreien Umgebung\, biblischen Geschichten\, kindgerechten spielerischen und thematischen Einheiten zum Wochenthema sowie gemeinsamen Unternehmungen
URL:https://summertime-goe.de/freizeit/die-magische-welt-von-merlin-cvjm-tagesbetreuung/
LOCATION:Privat: Göttingen\, Göttingen
ATTACH;FMTTYPE=image/jpeg:https://summertime-goe.de/wp-content/uploads/2024/11/CVJM-TB-Herbst.jpg
ORGANIZER;CN="CVYM G%C3%B6ttingen e.V.":MAILTO:buero@cvjm-goettingen.de
END:VEVENT
END:VCALENDAR