BEGIN:VCALENDAR
VERSION:2.0
PRODID:-//Summertime Göttingen - ECPv6.15.20//NONSGML v1.0//EN
CALSCALE:GREGORIAN
METHOD:PUBLISH
X-WR-CALNAME:Summertime Göttingen
X-ORIGINAL-URL:https://summertime-goe.de
X-WR-CALDESC:Veranstaltungen für Summertime Göttingen
REFRESH-INTERVAL;VALUE=DURATION:PT1H
X-Robots-Tag:noindex
X-PUBLISHED-TTL:PT1H
BEGIN:VTIMEZONE
TZID:Europe/Berlin
BEGIN:DAYLIGHT
TZOFFSETFROM:+0100
TZOFFSETTO:+0200
TZNAME:CEST
DTSTART:20250330T010000
END:DAYLIGHT
BEGIN:STANDARD
TZOFFSETFROM:+0200
TZOFFSETTO:+0100
TZNAME:CET
DTSTART:20251026T010000
END:STANDARD
BEGIN:DAYLIGHT
TZOFFSETFROM:+0100
TZOFFSETTO:+0200
TZNAME:CEST
DTSTART:20260329T010000
END:DAYLIGHT
BEGIN:STANDARD
TZOFFSETFROM:+0200
TZOFFSETTO:+0100
TZNAME:CET
DTSTART:20261025T010000
END:STANDARD
BEGIN:DAYLIGHT
TZOFFSETFROM:+0100
TZOFFSETTO:+0200
TZNAME:CEST
DTSTART:20270328T010000
END:DAYLIGHT
BEGIN:STANDARD
TZOFFSETFROM:+0200
TZOFFSETTO:+0100
TZNAME:CET
DTSTART:20271031T010000
END:STANDARD
END:VTIMEZONE
BEGIN:VEVENT
DTSTART;TZID=Europe/Berlin:20260323T080000
DTEND;TZID=Europe/Berlin:20260327T170000
DTSTAMP:20260425T184831
CREATED:20251204T093359Z
LAST-MODIFIED:20251204T093359Z
UID:10000136-1774252800-1774630800@summertime-goe.de
SUMMARY:Tagesbetreuung Herberhäuser Stieg Ostern
DESCRIPTION:In den Osterferien erwartet euch am Herberhäuser Stieg ein buntes und abwechslungsreiches Programm mit basteln\, malen\, spielen\, schnitzen und toben. Bei gutem Wetter sind auch Ausflüge geplant.  \nLeistungen: Engagierte Betreuung ab 8:00 Uhr bis 17:00 Uhr.  \nGetränke\, Mittagessen und nachmittags einen kleinen Snack.
URL:https://summertime-goe.de/freizeit/tagesbetreuung-herberhaeuser-stieg-ostern/
LOCATION:Göttingen / Herberhäuser Stieg
ATTACH;FMTTYPE=image/jpeg:https://summertime-goe.de/wp-content/uploads/2025/12/Herberhaeuser-Stieg-Ostern.jpg
ORGANIZER;CN="Stadt G%C3%B6ttingen%2C Fachdienst Jugendarbeit/Jugendf%C3%B6rderung":MAILTO:ferien@goettingen.de
END:VEVENT
BEGIN:VEVENT
DTSTART;TZID=Europe/Berlin:20260323T100000
DTEND;TZID=Europe/Berlin:20260327T150000
DTSTAMP:20260425T184831
CREATED:20251204T085458Z
LAST-MODIFIED:20251204T090011Z
UID:10000070-1774260000-1774623600@summertime-goe.de
SUMMARY:Gärtnern\, Wald und Natur - Osterferienprogramm
DESCRIPTION:Etwas übers Gärtnern\, Obst und Gemüse\, Tiere und Wald erfahren\, selbst mit\nanpacken und Vielfältiges erleben – das geht bei uns in den Osterferien. Wir bieten ein vielseitiges Programm\, immer verbunden mit erlebnispädagogischen Spielen und freier Zeit für spontanen Spaß. Unsere Themen sind Gärtnern\, Ernten\, Bäume und Sträucher pflanzen\, die Natur beobachten\, oder auch Habitate\, wie z.B. Nistkästen bauen.\nEinen Tag verbringen wir im Wald\, an den anderen Tagen sind wir auf der Fläche vom Friedensgarten\, beim Essbaren Waldgarten und dem Lernacker der Stadtsolawi Göttingen am Siekweg in Grone. Das genaue Programm wird Anfang März auf unserer Webseite zu finden sein: www.janun-goettingen.de/osterferienprogramm26\nWir sind die meiste Zeit draußen. Bei sehr kaltem oder nassen Wetter haben wir eine warme Hütte zum zwischenzeitlichem Aufwärmen und zum Kochen zur Verfügung. \nLeistungen: Betreuung (10-15 Uhr) durch engagierte ehrenamtliche Teamer:innen mit pädagogischer Erfahrung. Veganes Mittagessen (den Großteil ernten wir direkt bei uns)\, Snacks zwischendurch\, Haftpflicht/Unfallversicherung und ein vielfältiges Programm.
URL:https://summertime-goe.de/freizeit/gaertnern-wald-und-natur-osterferienprogramm/
LOCATION:Göttingen\, Siekweg
ATTACH;FMTTYPE=image/jpeg:https://summertime-goe.de/wp-content/uploads/2025/12/Sommerferienprogramm2026.jpeg
ORGANIZER;CN="JANUN G%C3%B6ttingen e.V.%2C Essbarer Waldgarten G%C3%B6ttingen":MAILTO:goettingen@janun.de
END:VEVENT
BEGIN:VEVENT
DTSTART;VALUE=DATE:20260327
DTEND;VALUE=DATE:20260403
DTSTAMP:20260425T184831
CREATED:20251201T094551Z
LAST-MODIFIED:20251201T094551Z
UID:10000065-1774569600-1775174399@summertime-goe.de
SUMMARY:Juleica-Schulung - Osterferien 2026
DESCRIPTION:Du möchtest Kinder und Jugendliche begleiten\, Gruppen leiten und Verantwortung übernehmen? Dann ist unsere Juleica-Schulung genau das Richtige für dich!\nDie Schulung wird von der Evangelischen Jugend Göttingen-Münden organisiert und vermittelt praxisnah alles\, was du für die Arbeit in der Jugendarbeit brauchst\, von Leitungskompetenzen über Spiele und Gruppenpädagogik bis hin zu rechtlichen Grundlagen und Prävention.\nAm Ende erhältst du die Jugendleiter*in-Card (Juleica)\, die dich offiziell zur Leitung von Kinder- und Jugendgruppen befähigt. \nLeistungen: Erfahrene Kursleitung\, praxisnahe Spiele\, Übungen und Gruppenaktionen\, Präventionsschulung sexualisierte Gewalt\, alle Schulungsunterlagen\, Verpflegung und Unterkunft inklusive\, offizielles Zertifikat\, Zeit für Austausch und Spaß\, An und Abreise ab Göttingen Hbf
URL:https://summertime-goe.de/freizeit/juleica-schulung-osterferien-2026/
LOCATION:Tagungshaus „Gleisdreieck“ in Hannover\, Tagungshaus „Gleisdreieck“\, Hannover\, Germany
ATTACH;FMTTYPE=image/jpeg:https://summertime-goe.de/wp-content/uploads/2025/12/Juleica-Bild.jpg
ORGANIZER;CN="Ev. Jugend Kirchenkreis G%C3%B6ttingen-M%C3%BCnden  Diakonin Christine D%C3%B6hling":MAILTO:christine.doehling@evlka.de
END:VEVENT
END:VCALENDAR