BEGIN:VCALENDAR
VERSION:2.0
PRODID:-//Summertime Göttingen - ECPv6.15.20//NONSGML v1.0//EN
CALSCALE:GREGORIAN
METHOD:PUBLISH
X-WR-CALNAME:Summertime Göttingen
X-ORIGINAL-URL:https://summertime-goe.de
X-WR-CALDESC:Veranstaltungen für Summertime Göttingen
REFRESH-INTERVAL;VALUE=DURATION:PT1H
X-Robots-Tag:noindex
X-PUBLISHED-TTL:PT1H
BEGIN:VTIMEZONE
TZID:Europe/Berlin
BEGIN:DAYLIGHT
TZOFFSETFROM:+0100
TZOFFSETTO:+0200
TZNAME:CEST
DTSTART:20250330T010000
END:DAYLIGHT
BEGIN:STANDARD
TZOFFSETFROM:+0200
TZOFFSETTO:+0100
TZNAME:CET
DTSTART:20251026T010000
END:STANDARD
BEGIN:DAYLIGHT
TZOFFSETFROM:+0100
TZOFFSETTO:+0200
TZNAME:CEST
DTSTART:20260329T010000
END:DAYLIGHT
BEGIN:STANDARD
TZOFFSETFROM:+0200
TZOFFSETTO:+0100
TZNAME:CET
DTSTART:20261025T010000
END:STANDARD
BEGIN:DAYLIGHT
TZOFFSETFROM:+0100
TZOFFSETTO:+0200
TZNAME:CEST
DTSTART:20270328T010000
END:DAYLIGHT
BEGIN:STANDARD
TZOFFSETFROM:+0200
TZOFFSETTO:+0100
TZNAME:CET
DTSTART:20271031T010000
END:STANDARD
END:VTIMEZONE
BEGIN:VEVENT
DTSTART;VALUE=DATE:20260801
DTEND;VALUE=DATE:20260810
DTSTAMP:20260423T000100
CREATED:20251201T095005Z
LAST-MODIFIED:20251201T095005Z
UID:10000066-1785542400-1786319999@summertime-goe.de
SUMMARY:Handwerkercamp 2026 - Kinderferienlager in den Sommerferien
DESCRIPTION:Dieses Jahr wird es beim Handwerkercamp richtig aufregend\, denn wir tauchen ein in die Welt von St. Patrick\, dem berühmten Schutzpatron Irlands. Die Woche über sind wir in der Natur unterwegs und wohnen in Zelten\, in denen sich pro Zelt zwei jugendliche Betreuer*innen um euch kümmern. Jeden Vormittag erwartet euch auf unserer Bühne ein kleines Theaterstück\, in dem wir das Leben von St. Patrick entdecken und erleben\, wie er den Menschen von Gott erzählt hat. Anschließend sprechen wir über das\, was wir auf der Bühne gesehen haben und nehmen uns Zeit für unsere Gedanken\, Fragen und Bedürfnisse. \nNachmittags werden wir selbst zu echten Handwerkern: Wir bauen Staudämme am Bach\, schnitzen kleine Figuren aus Holz\, flechten keltische Armbänder\, basteln mit Naturmaterialien oder Ton und bauen Mini-Musikinstrumente wie Trommeln und Rasseln. Wer Lust hat\, kann eigene kreative Projekte umsetzen und seiner Fantasie freien Lauf lassen. Danach powern wir uns bei Sport\, Geländespielen und auf der Hüpfburg richtig aus. Am Lagerfeuer mit Stockbrot\, bei Taize-Andachten oder der Gute-Nacht-Geschichte lassen wir den Tag gemeinsam ausklingen und genießen die tolle Zeit miteinander. \nAlle Kinder\, sind herzlich willkommen\, unabhängig von ihrem Glauben. \nLeistungen: Unterkunft in Zelten\, Vollverpflegung durch eigene Küche\, abwechslungsreiches Programm\, gemeinsame Unternehmungen und Freizeitleitung\, selbstorganisierte An- und Abreise
URL:https://summertime-goe.de/freizeit/handwerkercamp-2026-kinderferienlager-in-den-sommerferien/
LOCATION:Forsthaus Eggerode
ATTACH;FMTTYPE=image/jpeg:https://summertime-goe.de/wp-content/uploads/2025/12/HWC-Bild.jpg
ORGANIZER;CN="Kinderzentrum der Evangelischen Kirche in Nordhausen und Ev. Jugend G%C3%B6ttingen %E2%80%93 M%C3%BCnden":MAILTO:christopher.scharn@evlka.de
END:VEVENT
END:VCALENDAR