BEGIN:VCALENDAR
VERSION:2.0
PRODID:-//Summertime Göttingen - ECPv6.15.20//NONSGML v1.0//EN
CALSCALE:GREGORIAN
METHOD:PUBLISH
X-ORIGINAL-URL:https://summertime-goe.de
X-WR-CALDESC:Veranstaltungen für Summertime Göttingen
REFRESH-INTERVAL;VALUE=DURATION:PT1H
X-Robots-Tag:noindex
X-PUBLISHED-TTL:PT1H
BEGIN:VTIMEZONE
TZID:Europe/Berlin
BEGIN:DAYLIGHT
TZOFFSETFROM:+0100
TZOFFSETTO:+0200
TZNAME:CEST
DTSTART:20250330T010000
END:DAYLIGHT
BEGIN:STANDARD
TZOFFSETFROM:+0200
TZOFFSETTO:+0100
TZNAME:CET
DTSTART:20251026T010000
END:STANDARD
BEGIN:DAYLIGHT
TZOFFSETFROM:+0100
TZOFFSETTO:+0200
TZNAME:CEST
DTSTART:20260329T010000
END:DAYLIGHT
BEGIN:STANDARD
TZOFFSETFROM:+0200
TZOFFSETTO:+0100
TZNAME:CET
DTSTART:20261025T010000
END:STANDARD
BEGIN:DAYLIGHT
TZOFFSETFROM:+0100
TZOFFSETTO:+0200
TZNAME:CEST
DTSTART:20270328T010000
END:DAYLIGHT
BEGIN:STANDARD
TZOFFSETFROM:+0200
TZOFFSETTO:+0100
TZNAME:CET
DTSTART:20271031T010000
END:STANDARD
END:VTIMEZONE
BEGIN:VEVENT
DTSTART;VALUE=DATE:20260513
DTEND;VALUE=DATE:20260518
DTSTAMP:20260422T183947
CREATED:20251204T091506Z
LAST-MODIFIED:20251204T091506Z
UID:10000076-1778630400-1779062399@summertime-goe.de
SUMMARY:Stolle zum Kennenlernen - Experimente
DESCRIPTION:Übernachtest du gerne mal in einem Zelt\, zusammen mit anderen Kindern? Oder möchtest du das einfach einmal ausprobieren?  Dann bist du bei uns genau richtig!! \nAuf der Stolle gibt es viele Möglichkeiten Spaß zu haben: Eine spannende Nachtwanderung\, Sportturniere\, Klettern\, Basteln\, Singen und noch vieles mehr. Und wenn die Sonne mitspielt\, kannst du auch in unser Freibad gehen. \nUnd dieses Jahr wird sich zudem bei uns alles rund um das Thema „Experimente“ drehen. Es wird viel zum Ausprobieren\, Entdecken und Bestaunen geben! \nBei all diesen Aktionen bist du nicht allein: Zusammen mit 6 –7 anderen Kindern schläfst du in einem großen\, gemütlichen Zelt mit Schaumstoffmatratzen und Holzfußboden. Jede Zeltgruppe hat eine eigene Betreuerin bzw. einen Betreuer.  \nVersorgt wirst du auch bestens: Vier Mal am Tag gibt es gemeinsame Mahlzeiten\, die in unserer Stolle-Küche frisch zubereitet werden. \nEine Disco und ein Lagerfeuer runden unsere gemeinsame Zeit auf der Stolle ab\, so dass du am letzten Abend hoffentlich auch sagst: „Stolle find ich wunderbar\,…“ \nLeistungen:  \n Die Unterbringung erfolgt in Geschlechter getrennten Gruppenzelten\, mit einem Betreuenden und Vollverpflegung
URL:https://summertime-goe.de/freizeit/stolle-zum-kennenlernen-experimente/
LOCATION:Rosdorf/Dahlenrode
ATTACH;FMTTYPE=image/jpeg:https://summertime-goe.de/wp-content/uploads/2025/12/Stolle-K-scaled.jpeg
ORGANIZER;CN="Kreissportbund G%C3%B6ttingen-Osterode e.V.":MAILTO:jutta.bartsch@ksb-goettingen-osterode.de
END:VEVENT
BEGIN:VEVENT
DTSTART;VALUE=DATE:20260704
DTEND;VALUE=DATE:20260712
DTSTAMP:20260422T183947
CREATED:20251204T091013Z
LAST-MODIFIED:20251204T091013Z
UID:10000074-1783123200-1783814399@summertime-goe.de
SUMMARY:Stolle Zeltlager B - Bis zur Unendlichkeit – und noch viel weiter
DESCRIPTION:Houston\, wir haben kein Problem – wir starten ins spektakuläre Stolliversum! \nFreut euch auf ein galaktisches Abenteuer mit einem bunten Programm voller Highlights! Da ist für alle etwas dabei! Unsere Weltraummission beginnt mit spannenden Workshops: Waveboarden über den Sternen\, Werwölfe vom Imperium\, Malen\, der Stolliversum Times (Stolle Zeitung) oder Schach gegen die dunkle Seite der Macht. Es wird gebastelt\, gespielt\, gesungen – im „Stolliversum“ Chor oder am kosmischen Lagerlicht mit Stockbrot. Natürlich gibt’s auch Disco\, Nachtwanderung und Bingo\, Bingo\, Bingo!\nTagsüber sorgt Radio Stolle – Live aus dem Orbit\, für beste Unterhaltung. Zwischendurch erkundet ihr mit eurer Zeltgemeinschaft das Lager. Ihr schlaft mit 7–9 Kindern und einer Betreuungsperson in großen Zelten mit Matratzen. Auch der Pool ist geöffnet – also Badehose nicht vergessen!\nDieses Jahr geht’s in ferne Galaxien – mit Aliens\, Abenteuern und unbekannten Welten.\nBereit für den Countdown? Dann schnapp dir deinen Raumanzug – 10\, 9\, 8 …\nWir freuen uns auf dich – bis bald im galaktischen Wald! \n Leistungen: Die Unterbringung erfolgt in Geschlechter getrennten Gruppenzelten\, mit einem Betreuenden\, Vollverpflegung.
URL:https://summertime-goe.de/freizeit/stolle-zeltlager-b-bis-zur-unendlichkeit-und-noch-viel-weiter/
LOCATION:Rosdorf/Dahlenrode
ATTACH;FMTTYPE=image/jpeg:https://summertime-goe.de/wp-content/uploads/2025/12/DJI_20250725_214745_132-scaled.jpg
ORGANIZER;CN="Kreissportbund G%C3%B6ttingen-Osterode e.V.":MAILTO:jutta.bartsch@ksb-goettingen-osterode.de
END:VEVENT
BEGIN:VEVENT
DTSTART;VALUE=DATE:20260718
DTEND;VALUE=DATE:20260801
DTSTAMP:20260422T183947
CREATED:20251204T090705Z
LAST-MODIFIED:20251204T091236Z
UID:10000073-1784332800-1785542399@summertime-goe.de
SUMMARY:Stolle A (S)Tolle Sommerferien - Unser Zeltlager wird olympisch!
DESCRIPTION:Bereit für zwei unvergessliche Wochen voller Action\, Spaß und Teamgeist? Dann kommt mit ins Zeltlager auf dem wunderschönen Platz „Stolle“ – dieses Jahr unter dem Motto Olympische Spiele! Euch erwarten spannende Wettkämpfe\, kreative Challenges und viele gemeinsame Erlebnisse.\nIn olympischen Teams tretet ihr bei Fußball\, Brennball\, Basketball\, Tischtennis\, Schwimmen\, Stratego\, Wikinger-Schach\, Ringtennis und vielem mehr an. Dabei zählen nicht nur Punkte\, sondern vor allem Fairplay\, Teamgeist und Spaß!\nAuch abseits des Sports ist viel los: Bastel- und Kreativangebote\, Lagerfeuer mit Stockbrot\, Nachtwanderungen\, Disco\, Spiele und Abenteuer rund ums Gelände.\nDer Zeltplatz bietet perfekte Bedingungen: viel Platz\, Sportflächen\, Wald\, Pool und vier leckere Mahlzeiten täglich. Am Kiosk könnt ihr euer Taschengeld für Eis\, Chips & Süßes ausgeben.\nIhr schlaft in Zelten mit 8–9 Kindern und eurer Betreuung.\nAlle Kinder von 8 bis 13 Jahren sind herzlich eingeladen – egal ob Sportprofi oder Bewegungsfan.\nMeldet euch an und erlebt ein Sommerabenteuer\, das ihr nie vergesst! \nLeistungen: Die Unterbringung erfolgt in Geschlechter getrennten Gruppenzelten\, mit einem Betreuenden und Vollverpflegung.
URL:https://summertime-goe.de/freizeit/stolle-a-stolle-sommerferien-unser-zeltlager-wird-olympisch/
LOCATION:Rosdorf/Dahlenrode
ATTACH;FMTTYPE=image/jpeg:https://summertime-goe.de/wp-content/uploads/2025/12/DSC_0359.jpg
ORGANIZER;CN="Kreissportbund G%C3%B6ttingen-Osterode e.V.":MAILTO:jutta.bartsch@ksb-goettingen-osterode.de
END:VEVENT
BEGIN:VEVENT
DTSTART;VALUE=DATE:20260801
DTEND;VALUE=DATE:20260810
DTSTAMP:20260422T183947
CREATED:20251204T091211Z
LAST-MODIFIED:20251204T091211Z
UID:10000075-1785542400-1786319999@summertime-goe.de
SUMMARY:Stolle - Zeltlager C - Wilder Westen
DESCRIPTION:Pack deinen Cowboyhut ein und reite mit uns in den Wilden Westen!\nIn dieser Freizeit wirst du Teil eines echten Westernabenteuers – Yeehaw! Gemeinsam mit anderen mutigen Cowboys und Cowgirls ziehst du los\, um den legendären Goldschatz zu finden.\nDich erwarten spannende Geländespiele\, knifflige Schatzsuchen und echte Wildwest-Disziplinen wie Hufeisenwerfen\, Lasso-Wettbewerbe und Bogenschießen. Ob du nun ein erfahrener Goldgräber oder ein frischer Prärie-Neuling bist – Langeweile hat hier keine Chance!\nNatürlich darf auch das Lagerleben nicht fehlen: Am knisternden Lagerfeuer wird Stockbrot gebraten\, Geschichten erzählt und vielleicht sogar ein Cowboylied angestimmt.\nIn den Zelten schläfst du mit etwa 8 anderen Cowboys oder Cowgirls und einem „Sheriff“ (Betreuungsperson) auf gemütlichen Matratzen – echtes Westernfeeling inklusive!\nAlso\, bist du bereit für ein Abenteuer zwischen Kakteen\, Cowboys und jeder Menge Spaß? Dann sattle dein (imaginäres) Pferd – der Wilde Westen ruft\, und du bist mittendrin! \nLeistungen: Die Unterbringung erfolgt in Geschlechter getrennten Gruppenzelten\, mit einem Betreuenden und Vollverpflegung
URL:https://summertime-goe.de/freizeit/stolle-zeltlager-c-wilder-westen/
LOCATION:Rosdorf/Dahlenrode
ATTACH;FMTTYPE=image/jpeg:https://summertime-goe.de/wp-content/uploads/2025/12/DJI_20250720_211616_548-scaled.jpg
ORGANIZER;CN="Kreissportbund G%C3%B6ttingen-Osterode e.V.":MAILTO:jutta.bartsch@ksb-goettingen-osterode.de
END:VEVENT
END:VCALENDAR