BEGIN:VCALENDAR
VERSION:2.0
PRODID:-//Summertime Göttingen - ECPv6.15.20//NONSGML v1.0//EN
CALSCALE:GREGORIAN
METHOD:PUBLISH
X-WR-CALNAME:Summertime Göttingen
X-ORIGINAL-URL:https://summertime-goe.de
X-WR-CALDESC:Veranstaltungen für Summertime Göttingen
REFRESH-INTERVAL;VALUE=DURATION:PT1H
X-Robots-Tag:noindex
X-PUBLISHED-TTL:PT1H
BEGIN:VTIMEZONE
TZID:Europe/Berlin
BEGIN:DAYLIGHT
TZOFFSETFROM:+0100
TZOFFSETTO:+0200
TZNAME:CEST
DTSTART:20240331T010000
END:DAYLIGHT
BEGIN:STANDARD
TZOFFSETFROM:+0200
TZOFFSETTO:+0100
TZNAME:CET
DTSTART:20241027T010000
END:STANDARD
BEGIN:DAYLIGHT
TZOFFSETFROM:+0100
TZOFFSETTO:+0200
TZNAME:CEST
DTSTART:20250330T010000
END:DAYLIGHT
BEGIN:STANDARD
TZOFFSETFROM:+0200
TZOFFSETTO:+0100
TZNAME:CET
DTSTART:20251026T010000
END:STANDARD
BEGIN:DAYLIGHT
TZOFFSETFROM:+0100
TZOFFSETTO:+0200
TZNAME:CEST
DTSTART:20260329T010000
END:DAYLIGHT
BEGIN:STANDARD
TZOFFSETFROM:+0200
TZOFFSETTO:+0100
TZNAME:CET
DTSTART:20261025T010000
END:STANDARD
END:VTIMEZONE
BEGIN:VEVENT
DTSTART;TZID=Europe/Berlin:20250707T093000
DTEND;TZID=Europe/Berlin:20250718T163000
DTSTAMP:20260423T054259
CREATED:20250130T095019Z
LAST-MODIFIED:20250130T095019Z
UID:10000060-1751880600-1752856200@summertime-goe.de
SUMMARY:Ferienangebot | Mach-Mit-Aktion
DESCRIPTION:Die Teilnahme an der Mach-Mit-Aktion kann nur nach vorheriger Anmeldung erfolgen. Die „Mach-Mit-Aktion“ ist ein Ferienangebot\, das in den ersten zwei Sommerferienwochen stattfindet. Kinder können basteln\, spielen oder sich an heißen Tagen bei einer Wasserschlacht abkühlen. Jede Woche steht unter einem anderen spannenden Motto und somit bietet die Mach-Mit-Aktion ein vielfältiges Angebot für jeden.   \nLeistungen: Engagierte Betreuung ab 09:30 Uhr bis 16:30 Uhr.  \nEs gibt die Möglichkeit kostenlos mit Bussen zur Mach-Mit-Aktion zu gelangen. Fahrpläne sind online unter www.ferien-goettingen-anmeldung.de (unter Downloads) zu gegebener Zeit verfügbar. 
URL:https://summertime-goe.de/freizeit/ferienangebot-mach-mit-aktion/
LOCATION:Mach-Mit-Wiese auf dem Leineberg\, Mach-Mit-Wiese auf dem Leineberg
ATTACH;FMTTYPE=image/jpeg:https://summertime-goe.de/wp-content/uploads/2024/11/Stadt-Mach-mit-aktion.jpg
ORGANIZER;CN="Stadt G%C3%B6ttingen%2C Fachdienst Jugendarbeit/Jugendf%C3%B6rderung":MAILTO:ferien@goettingen.de
END:VEVENT
END:VCALENDAR